BEGIN:VCALENDAR
VERSION:2.0
PRODID:-//NetAuktion//NONSGML NetAuktion//SV
METHOD:PUBLISH
BEGIN:VEVENT
UID:20260421T104318-12875584-netauktion.se
DTSTAMP:20260421T104318
DTSTART:20090626T012600
DTEND:20090626T012900
SUMMARY:Netauktion objekt 0233-017 Auktionspåminnelse
DESCRIPTION:Länk till objektet du var intresserad av: https://staging.netauktion.se/auktion/produkt/datorpaket-hp-pavilion
END:VEVENT
END:VCALENDAR
