BEGIN:VCALENDAR
VERSION:2.0
PRODID:-//NetAuktion//NONSGML NetAuktion//SV
METHOD:PUBLISH
BEGIN:VEVENT
UID:20260421T104427-680921835-netauktion.se
DTSTAMP:20260421T104427
DTSTART:20140731T022100
DTEND:20140731T022400
SUMMARY:Netauktion objekt 1885-077 Auktionspåminnelse
DESCRIPTION:Länk till objektet du var intresserad av: https://staging.netauktion.se/auktion/produkt/damparfym-och-harvard
END:VEVENT
END:VCALENDAR
