BEGIN:VCALENDAR
VERSION:2.0
PRODID:-//NetAuktion//NONSGML NetAuktion//SV
METHOD:PUBLISH
BEGIN:VEVENT
UID:20260421T102801-1006393672-netauktion.se
DTSTAMP:20260421T102801
DTSTART:20140731T022500
DTEND:20140731T022800
SUMMARY:Netauktion objekt 1885-091 Auktionspåminnelse
DESCRIPTION:Länk till objektet du var intresserad av: https://staging.netauktion.se/auktion/produkt/vagggolv-och-bordslampor
END:VEVENT
END:VCALENDAR
