BEGIN:VCALENDAR
VERSION:2.0
PRODID:-//NetAuktion//NONSGML NetAuktion//SV
METHOD:PUBLISH
BEGIN:VEVENT
UID:20260421T102745-1332860499-netauktion.se
DTSTAMP:20260421T102745
DTSTART:20140731T022500
DTEND:20140731T022800
SUMMARY:Netauktion objekt 1885-094 Auktionspåminnelse
DESCRIPTION:Länk till objektet du var intresserad av: https://staging.netauktion.se/auktion/produkt/tradgardslyktor-och-tavlor
END:VEVENT
END:VCALENDAR
