BEGIN:VCALENDAR
VERSION:2.0
PRODID:-//NetAuktion//NONSGML NetAuktion//SV
METHOD:PUBLISH
BEGIN:VEVENT
UID:20260421T102837-1336339791-netauktion.se
DTSTAMP:20260421T102837
DTSTART:20140731T022900
DTEND:20140731T023200
SUMMARY:Netauktion objekt 1885-101 Auktionspåminnelse
DESCRIPTION:Länk till objektet du var intresserad av: https://staging.netauktion.se/auktion/produkt/barnflyvastar-aror-och-oljeuppsugningsdukar
END:VEVENT
END:VCALENDAR
