BEGIN:VCALENDAR
VERSION:2.0
PRODID:-//NetAuktion//NONSGML NetAuktion//SV
METHOD:PUBLISH
BEGIN:VEVENT
UID:20260421T104254-995004715-netauktion.se
DTSTAMP:20260421T104254
DTSTART:20140630T013400
DTEND:20140630T013700
SUMMARY:Netauktion objekt 1761-038 Auktionspåminnelse
DESCRIPTION:Länk till objektet du var intresserad av: https://staging.netauktion.se/auktion/produkt/jeans-stl-33-1
END:VEVENT
END:VCALENDAR
