BEGIN:VCALENDAR
VERSION:2.0
PRODID:-//NetAuktion//NONSGML NetAuktion//SV
METHOD:PUBLISH
BEGIN:VEVENT
UID:20260421T102745-1319960267-netauktion.se
DTSTAMP:20260421T102745
DTSTART:20140630T015300
DTEND:20140630T015600
SUMMARY:Netauktion objekt 1761-057 Auktionspåminnelse
DESCRIPTION:Länk till objektet du var intresserad av: https://staging.netauktion.se/auktion/produkt/jeans-stl-24-till-27
END:VEVENT
END:VCALENDAR
