BEGIN:VCALENDAR
VERSION:2.0
PRODID:-//NetAuktion//NONSGML NetAuktion//SV
METHOD:PUBLISH
BEGIN:VEVENT
UID:20260421T102743-1364790382-netauktion.se
DTSTAMP:20260421T102743
DTSTART:20140630T015900
DTEND:20140630T020200
SUMMARY:Netauktion objekt 1761-063 Auktionspåminnelse
DESCRIPTION:Länk till objektet du var intresserad av: https://staging.netauktion.se/auktion/produkt/shortskortbyxor-stl-30-till-31
END:VEVENT
END:VCALENDAR
