BEGIN:VCALENDAR
VERSION:2.0
PRODID:-//NetAuktion//NONSGML NetAuktion//SV
METHOD:PUBLISH
BEGIN:VEVENT
UID:20260421T102952-1572393434-netauktion.se
DTSTAMP:20260421T102952
DTSTART:20140630T020000
DTEND:20140630T020300
SUMMARY:Netauktion objekt 1761-064 Auktionspåminnelse
DESCRIPTION:Länk till objektet du var intresserad av: https://staging.netauktion.se/auktion/produkt/shortskortbyxor-stl-33-till-34
END:VEVENT
END:VCALENDAR
