BEGIN:VCALENDAR
VERSION:2.0
PRODID:-//NetAuktion//NONSGML NetAuktion//SV
METHOD:PUBLISH
BEGIN:VEVENT
UID:20260421T104309-1579329723-netauktion.se
DTSTAMP:20260421T104309
DTSTART:20140630T020800
DTEND:20140630T021100
SUMMARY:Netauktion objekt 1761-072 Auktionspåminnelse
DESCRIPTION:Länk till objektet du var intresserad av: https://staging.netauktion.se/auktion/produkt/damklader-stl-m-2
END:VEVENT
END:VCALENDAR
