BEGIN:VCALENDAR
VERSION:2.0
PRODID:-//NetAuktion//NONSGML NetAuktion//SV
METHOD:PUBLISH
BEGIN:VEVENT
UID:20260421T104308-2097617051-netauktion.se
DTSTAMP:20260421T104308
DTSTART:20140630T021400
DTEND:20140630T021700
SUMMARY:Netauktion objekt 1761-078 Auktionspåminnelse
DESCRIPTION:Länk till objektet du var intresserad av: https://staging.netauktion.se/auktion/produkt/damherrklader-stl-xl
END:VEVENT
END:VCALENDAR
