BEGIN:VCALENDAR
VERSION:2.0
PRODID:-//NetAuktion//NONSGML NetAuktion//SV
METHOD:PUBLISH
BEGIN:VEVENT
UID:20260421T102705-242628098-netauktion.se
DTSTAMP:20260421T102705
DTSTART:20090626T013200
DTEND:20090626T013500
SUMMARY:Netauktion objekt 0233-026 Auktionspåminnelse
DESCRIPTION:Länk till objektet du var intresserad av: https://staging.netauktion.se/auktion/produkt/2-datorer-hp-compaq
END:VEVENT
END:VCALENDAR
