BEGIN:VCALENDAR
VERSION:2.0
PRODID:-//NetAuktion//NONSGML NetAuktion//SV
METHOD:PUBLISH
BEGIN:VEVENT
UID:20260421T104620-1259875834-netauktion.se
DTSTAMP:20260421T104620
DTSTART:20140731T023700
DTEND:20140731T024000
SUMMARY:Netauktion objekt 1885-128 Auktionspåminnelse
DESCRIPTION:Länk till objektet du var intresserad av: https://staging.netauktion.se/auktion/produkt/partiforsaljning-5
END:VEVENT
END:VCALENDAR
