BEGIN:VCALENDAR
VERSION:2.0
PRODID:-//NetAuktion//NONSGML NetAuktion//SV
METHOD:PUBLISH
BEGIN:VEVENT
UID:20260421T104308-353746009-netauktion.se
DTSTAMP:20260421T104308
DTSTART:20090623T005700
DTEND:20090623T010000
SUMMARY:Netauktion objekt 0284-001 Auktionspåminnelse
DESCRIPTION:Länk till objektet du var intresserad av: https://staging.netauktion.se/auktion/produkt/kassaskap-2
END:VEVENT
END:VCALENDAR
