BEGIN:VCALENDAR
VERSION:2.0
PRODID:-//NetAuktion//NONSGML NetAuktion//SV
METHOD:PUBLISH
BEGIN:VEVENT
UID:20260421T104456-184942255-netauktion.se
DTSTAMP:20260421T104456
DTSTART:20140731T155700
DTEND:20140731T160000
SUMMARY:Netauktion objekt 1903-121 Auktionspåminnelse
DESCRIPTION:Länk till objektet du var intresserad av: https://staging.netauktion.se/auktion/produkt/skruvstad-sald-pa-plats
END:VEVENT
END:VCALENDAR
