BEGIN:VCALENDAR
VERSION:2.0
PRODID:-//NetAuktion//NONSGML NetAuktion//SV
METHOD:PUBLISH
BEGIN:VEVENT
UID:20260421T102704-2129615180-netauktion.se
DTSTAMP:20260421T102704
DTSTART:20090619T014800
DTEND:20090619T015100
SUMMARY:Netauktion objekt 0281-052 Auktionspåminnelse
DESCRIPTION:Länk till objektet du var intresserad av: https://staging.netauktion.se/auktion/produkt/maxfactor-lappstift-varde-4200kr
END:VEVENT
END:VCALENDAR
