BEGIN:VCALENDAR
VERSION:2.0
PRODID:-//NetAuktion//NONSGML NetAuktion//SV
METHOD:PUBLISH
BEGIN:VEVENT
UID:20260421T104450-727908888-netauktion.se
DTSTAMP:20260421T104450
DTSTART:20090619T020200
DTEND:20090619T020500
SUMMARY:Netauktion objekt 0281-066 Auktionspåminnelse
DESCRIPTION:Länk till objektet du var intresserad av: https://staging.netauktion.se/auktion/produkt/parfymer-mm-varde-2200kr
END:VEVENT
END:VCALENDAR
