BEGIN:VCALENDAR
VERSION:2.0
PRODID:-//NetAuktion//NONSGML NetAuktion//SV
METHOD:PUBLISH
BEGIN:VEVENT
UID:20260421T104431-434904647-netauktion.se
DTSTAMP:20260421T104431
DTSTART:20090619T021400
DTEND:20090619T021700
SUMMARY:Netauktion objekt 0281-091 Auktionspåminnelse
DESCRIPTION:Länk till objektet du var intresserad av: https://staging.netauktion.se/auktion/produkt/herrparfymer-mm-hugo-boss-samt-baldessarini-varde-2000kr
END:VEVENT
END:VCALENDAR
