BEGIN:VCALENDAR
VERSION:2.0
PRODID:-//NetAuktion//NONSGML NetAuktion//SV
METHOD:PUBLISH
BEGIN:VEVENT
UID:20260421T102704-2039135374-netauktion.se
DTSTAMP:20260421T102704
DTSTART:20140731T020500
DTEND:20140731T020800
SUMMARY:Netauktion objekt 1885-217 Auktionspåminnelse
DESCRIPTION:Länk till objektet du var intresserad av: https://staging.netauktion.se/auktion/produkt/blandat-parti
END:VEVENT
END:VCALENDAR
