BEGIN:VCALENDAR
VERSION:2.0
PRODID:-//NetAuktion//NONSGML NetAuktion//SV
METHOD:PUBLISH
BEGIN:VEVENT
UID:20260421T102708-1090254936-netauktion.se
DTSTAMP:20260421T102708
DTSTART:20140731T020400
DTEND:20140731T020700
SUMMARY:Netauktion objekt 1885-218 Auktionspåminnelse
DESCRIPTION:Länk till objektet du var intresserad av: https://staging.netauktion.se/auktion/produkt/tape-kaffematt-dorrstopp-mm
END:VEVENT
END:VCALENDAR
