BEGIN:VCALENDAR
VERSION:2.0
PRODID:-//NetAuktion//NONSGML NetAuktion//SV
METHOD:PUBLISH
BEGIN:VEVENT
UID:20260421T102706-286012253-netauktion.se
DTSTAMP:20260421T102706
DTSTART:20140731T021200
DTEND:20140731T021500
SUMMARY:Netauktion objekt 1885-226 Auktionspåminnelse
DESCRIPTION:Länk till objektet du var intresserad av: https://staging.netauktion.se/auktion/produkt/skor-6
END:VEVENT
END:VCALENDAR
