BEGIN:VCALENDAR
VERSION:2.0
PRODID:-//NetAuktion//NONSGML NetAuktion//SV
METHOD:PUBLISH
BEGIN:VEVENT
UID:20260421T104310-1055108796-netauktion.se
DTSTAMP:20260421T104310
DTSTART:20140731T021300
DTEND:20140731T021600
SUMMARY:Netauktion objekt 1885-227 Auktionspåminnelse
DESCRIPTION:Länk till objektet du var intresserad av: https://staging.netauktion.se/auktion/produkt/kvalitetsverktyg
END:VEVENT
END:VCALENDAR
