BEGIN:VCALENDAR
VERSION:2.0
PRODID:-//NetAuktion//NONSGML NetAuktion//SV
METHOD:PUBLISH
BEGIN:VEVENT
UID:20260421T104304-143874605-netauktion.se
DTSTAMP:20260421T104304
DTSTART:20090619T022900
DTEND:20090619T023200
SUMMARY:Netauktion objekt 0281-135 Auktionspåminnelse
DESCRIPTION:Länk till objektet du var intresserad av: https://staging.netauktion.se/auktion/produkt/nya-kanebo-international-produkter-varde-3500kr-2
END:VEVENT
END:VCALENDAR
