BEGIN:VCALENDAR
VERSION:2.0
PRODID:-//NetAuktion//NONSGML NetAuktion//SV
METHOD:PUBLISH
BEGIN:VEVENT
UID:20260421T104452-975205124-netauktion.se
DTSTAMP:20260421T104452
DTSTART:20140731T232700
DTEND:20140731T233000
SUMMARY:Netauktion objekt 1903-123 Auktionspåminnelse
DESCRIPTION:Länk till objektet du var intresserad av: https://staging.netauktion.se/auktion/produkt/kladstallning-sald-pa-plats
END:VEVENT
END:VCALENDAR
