BEGIN:VCALENDAR
VERSION:2.0
PRODID:-//NetAuktion//NONSGML NetAuktion//SV
METHOD:PUBLISH
BEGIN:VEVENT
UID:20260421T104559-1155293724-netauktion.se
DTSTAMP:20260421T104559
DTSTART:20140829T011400
DTEND:20140829T011700
SUMMARY:Netauktion objekt 1934-011 Auktionspåminnelse
DESCRIPTION:Länk till objektet du var intresserad av: https://staging.netauktion.se/auktion/produkt/kylbank-med-overkyla-pizzabank
END:VEVENT
END:VCALENDAR
