BEGIN:VCALENDAR
VERSION:2.0
PRODID:-//NetAuktion//NONSGML NetAuktion//SV
METHOD:PUBLISH
BEGIN:VEVENT
UID:20260421T104621-258506287-netauktion.se
DTSTAMP:20260421T104621
DTSTART:20140829T011300
DTEND:20140829T011600
SUMMARY:Netauktion objekt 1934-014 Auktionspåminnelse
DESCRIPTION:Länk till objektet du var intresserad av: https://staging.netauktion.se/auktion/produkt/kylbank-med-fritos
END:VEVENT
END:VCALENDAR
