BEGIN:VCALENDAR
VERSION:2.0
PRODID:-//NetAuktion//NONSGML NetAuktion//SV
METHOD:PUBLISH
BEGIN:VEVENT
UID:20260421T104432-517942967-netauktion.se
DTSTAMP:20260421T104432
DTSTART:20090623T011400
DTEND:20090623T011700
SUMMARY:Netauktion objekt 0284-004 Auktionspåminnelse
DESCRIPTION:Länk till objektet du var intresserad av: https://staging.netauktion.se/auktion/produkt/larmbagar-4
END:VEVENT
END:VCALENDAR
