BEGIN:VCALENDAR
VERSION:2.0
PRODID:-//NetAuktion//NONSGML NetAuktion//SV
METHOD:PUBLISH
BEGIN:VEVENT
UID:20260421T104306-826778643-netauktion.se
DTSTAMP:20260421T104306
DTSTART:20140827T011500
DTEND:20140827T011800
SUMMARY:Netauktion objekt 1748-294 Auktionspåminnelse
DESCRIPTION:Länk till objektet du var intresserad av: https://staging.netauktion.se/auktion/produkt/2st-rojsagar-fran-husqvarna-rep-objekt
END:VEVENT
END:VCALENDAR
