BEGIN:VCALENDAR
VERSION:2.0
PRODID:-//NetAuktion//NONSGML NetAuktion//SV
METHOD:PUBLISH
BEGIN:VEVENT
UID:20260421T102704-2062212614-netauktion.se
DTSTAMP:20260421T102704
DTSTART:20140827T011800
DTEND:20140827T012100
SUMMARY:Netauktion objekt 1748-297 Auktionspåminnelse
DESCRIPTION:Länk till objektet du var intresserad av: https://staging.netauktion.se/auktion/produkt/hacksax-husqvarna-327h
END:VEVENT
END:VCALENDAR
