BEGIN:VCALENDAR
VERSION:2.0
PRODID:-//NetAuktion//NONSGML NetAuktion//SV
METHOD:PUBLISH
BEGIN:VEVENT
UID:20260421T104307-760357544-netauktion.se
DTSTAMP:20260421T104307
DTSTART:20140827T011900
DTEND:20140827T012200
SUMMARY:Netauktion objekt 1748-298 Auktionspåminnelse
DESCRIPTION:Länk till objektet du var intresserad av: https://staging.netauktion.se/auktion/produkt/snigamit-kil
END:VEVENT
END:VCALENDAR
