BEGIN:VCALENDAR
VERSION:2.0
PRODID:-//NetAuktion//NONSGML NetAuktion//SV
METHOD:PUBLISH
BEGIN:VEVENT
UID:20260421T104429-136987940-netauktion.se
DTSTAMP:20260421T104429
DTSTART:20140829T014300
DTEND:20140829T014600
SUMMARY:Netauktion objekt 1591-166 Auktionspåminnelse
DESCRIPTION:Länk till objektet du var intresserad av: https://staging.netauktion.se/auktion/produkt/parti-med-parfymflaskor-samlarobjekt-2
END:VEVENT
END:VCALENDAR
