BEGIN:VCALENDAR
VERSION:2.0
PRODID:-//NetAuktion//NONSGML NetAuktion//SV
METHOD:PUBLISH
BEGIN:VEVENT
UID:20260421T104452-1511433222-netauktion.se
DTSTAMP:20260421T104452
DTSTART:20140829T013900
DTEND:20140829T014200
SUMMARY:Netauktion objekt 1591-172 Auktionspåminnelse
DESCRIPTION:Länk till objektet du var intresserad av: https://staging.netauktion.se/auktion/produkt/parti-med-parfymflaskor-samlarobjekt-8
END:VEVENT
END:VCALENDAR
