BEGIN:VCALENDAR
VERSION:2.0
PRODID:-//NetAuktion//NONSGML NetAuktion//SV
METHOD:PUBLISH
BEGIN:VEVENT
UID:20260421T104451-525067459-netauktion.se
DTSTAMP:20260421T104451
DTSTART:20140829T013600
DTEND:20140829T013900
SUMMARY:Netauktion objekt 1591-173 Auktionspåminnelse
DESCRIPTION:Länk till objektet du var intresserad av: https://staging.netauktion.se/auktion/produkt/parti-med-parfymflaskor-samlarobjekt-9
END:VEVENT
END:VCALENDAR
