BEGIN:VCALENDAR
VERSION:2.0
PRODID:-//NetAuktion//NONSGML NetAuktion//SV
METHOD:PUBLISH
BEGIN:VEVENT
UID:20260421T104432-440620330-netauktion.se
DTSTAMP:20260421T104432
DTSTART:20090626T170700
DTEND:20090626T171000
SUMMARY:Netauktion objekt 0292-022 Auktionspåminnelse
DESCRIPTION:Länk till objektet du var intresserad av: https://staging.netauktion.se/auktion/produkt/fia-erlandsson-oljemalning
END:VEVENT
END:VCALENDAR
