BEGIN:VCALENDAR
VERSION:2.0
PRODID:-//NetAuktion//NONSGML NetAuktion//SV
METHOD:PUBLISH
BEGIN:VEVENT
UID:20260421T104454-1990732846-netauktion.se
DTSTAMP:20260421T104454
DTSTART:20140929T033300
DTEND:20140929T033600
SUMMARY:Netauktion objekt 1793-029 Auktionspåminnelse
DESCRIPTION:Länk till objektet du var intresserad av: https://staging.netauktion.se/auktion/produkt/klockor-mm-3
END:VEVENT
END:VCALENDAR
