BEGIN:VCALENDAR
VERSION:2.0
PRODID:-//NetAuktion//NONSGML NetAuktion//SV
METHOD:PUBLISH
BEGIN:VEVENT
UID:20260421T102704-1252585864-netauktion.se
DTSTAMP:20260421T102704
DTSTART:20140929T034800
DTEND:20140929T035100
SUMMARY:Netauktion objekt 1967-012 Auktionspåminnelse
DESCRIPTION:Länk till objektet du var intresserad av: https://staging.netauktion.se/auktion/produkt/handgel-mano-lavendel-100ml-200st
END:VEVENT
END:VCALENDAR
