BEGIN:VCALENDAR
VERSION:2.0
PRODID:-//NetAuktion//NONSGML NetAuktion//SV
METHOD:PUBLISH
BEGIN:VEVENT
UID:20260421T102839-1368894814-netauktion.se
DTSTAMP:20260421T102839
DTSTART:20140929T035100
DTEND:20140929T035400
SUMMARY:Netauktion objekt 1967-015 Auktionspåminnelse
DESCRIPTION:Länk till objektet du var intresserad av: https://staging.netauktion.se/auktion/produkt/a-kram-med-a-vitamin-150st
END:VEVENT
END:VCALENDAR
