BEGIN:VCALENDAR
VERSION:2.0
PRODID:-//NetAuktion//NONSGML NetAuktion//SV
METHOD:PUBLISH
BEGIN:VEVENT
UID:20260421T104319-1924395920-netauktion.se
DTSTAMP:20260421T104319
DTSTART:20140929T035300
DTEND:20140929T035600
SUMMARY:Netauktion objekt 1967-017 Auktionspåminnelse
DESCRIPTION:Länk till objektet du var intresserad av: https://staging.netauktion.se/auktion/produkt/a-kram-med-a-vitamin-150st-3
END:VEVENT
END:VCALENDAR
