BEGIN:VCALENDAR
VERSION:2.0
PRODID:-//NetAuktion//NONSGML NetAuktion//SV
METHOD:PUBLISH
BEGIN:VEVENT
UID:20260421T104434-1150165119-netauktion.se
DTSTAMP:20260421T104434
DTSTART:20140929T035600
DTEND:20140929T035900
SUMMARY:Netauktion objekt 1967-020 Auktionspåminnelse
DESCRIPTION:Länk till objektet du var intresserad av: https://staging.netauktion.se/auktion/produkt/abslolut-torr-antiperspirant-vatservett-40st-3
END:VEVENT
END:VCALENDAR
