BEGIN:VCALENDAR
VERSION:2.0
PRODID:-//NetAuktion//NONSGML NetAuktion//SV
METHOD:PUBLISH
BEGIN:VEVENT
UID:20260421T104430-2103256175-netauktion.se
DTSTAMP:20260421T104430
DTSTART:20140929T035900
DTEND:20140929T040200
SUMMARY:Netauktion objekt 1967-021 Auktionspåminnelse
DESCRIPTION:Länk till objektet du var intresserad av: https://staging.netauktion.se/auktion/produkt/abslolut-torr-antiperspirant-vatservett-40st-4
END:VEVENT
END:VCALENDAR
