BEGIN:VCALENDAR
VERSION:2.0
PRODID:-//NetAuktion//NONSGML NetAuktion//SV
METHOD:PUBLISH
BEGIN:VEVENT
UID:20260421T102746-1122365802-netauktion.se
DTSTAMP:20260421T102746
DTSTART:20141128T011800
DTEND:20141128T012100
SUMMARY:Netauktion objekt 1544-010 Auktionspåminnelse
DESCRIPTION:Länk till objektet du var intresserad av: https://staging.netauktion.se/auktion/produkt/hundleksaker-l55-60cm-medium-2
END:VEVENT
END:VCALENDAR
