BEGIN:VCALENDAR
VERSION:2.0
PRODID:-//NetAuktion//NONSGML NetAuktion//SV
METHOD:PUBLISH
BEGIN:VEVENT
UID:20260421T102801-153963014-netauktion.se
DTSTAMP:20260421T102801
DTSTART:20141128T012400
DTEND:20141128T012700
SUMMARY:Netauktion objekt 1544-035 Auktionspåminnelse
DESCRIPTION:Länk till objektet du var intresserad av: https://staging.netauktion.se/auktion/produkt/leksaker-koppel-och-halsband-small-3
END:VEVENT
END:VCALENDAR
