BEGIN:VCALENDAR
VERSION:2.0
PRODID:-//NetAuktion//NONSGML NetAuktion//SV
METHOD:PUBLISH
BEGIN:VEVENT
UID:20260421T104438-1692839583-netauktion.se
DTSTAMP:20260421T104438
DTSTART:20150227T034100
DTEND:20150227T034400
SUMMARY:Netauktion objekt 2012-006 Auktionspåminnelse
DESCRIPTION:Länk till objektet du var intresserad av: https://staging.netauktion.se/auktion/produkt/16st-cd-skivor-absolute-mixar-2
END:VEVENT
END:VCALENDAR
