BEGIN:VCALENDAR
VERSION:2.0
PRODID:-//NetAuktion//NONSGML NetAuktion//SV
METHOD:PUBLISH
BEGIN:VEVENT
UID:20260421T103004-294195930-netauktion.se
DTSTAMP:20260421T103004
DTSTART:20141031T011200
DTEND:20141031T011500
SUMMARY:Netauktion objekt 2012-023 Auktionspåminnelse
DESCRIPTION:Länk till objektet du var intresserad av: https://staging.netauktion.se/auktion/produkt/75st-cd-skivor-samlingsalbum-mm
END:VEVENT
END:VCALENDAR
