BEGIN:VCALENDAR
VERSION:2.0
PRODID:-//NetAuktion//NONSGML NetAuktion//SV
METHOD:PUBLISH
BEGIN:VEVENT
UID:20260421T104316-1926563849-netauktion.se
DTSTAMP:20260421T104316
DTSTART:20141031T011900
DTEND:20141031T012200
SUMMARY:Netauktion objekt 2012-030 Auktionspåminnelse
DESCRIPTION:Länk till objektet du var intresserad av: https://staging.netauktion.se/auktion/produkt/35st-skivor-cornelius-vreeswijk-scocco-orup-mfl
END:VEVENT
END:VCALENDAR
