BEGIN:VCALENDAR
VERSION:2.0
PRODID:-//NetAuktion//NONSGML NetAuktion//SV
METHOD:PUBLISH
BEGIN:VEVENT
UID:20260421T102935-940859602-netauktion.se
DTSTAMP:20260421T102935
DTSTART:20141031T012000
DTEND:20141031T012300
SUMMARY:Netauktion objekt 2012-031 Auktionspåminnelse
DESCRIPTION:Länk till objektet du var intresserad av: https://staging.netauktion.se/auktion/produkt/35st-cd-skivor-titiyo-lars-winnerback-philipsson-mfl
END:VEVENT
END:VCALENDAR
