BEGIN:VCALENDAR
VERSION:2.0
PRODID:-//NetAuktion//NONSGML NetAuktion//SV
METHOD:PUBLISH
BEGIN:VEVENT
UID:20260421T104434-1873711224-netauktion.se
DTSTAMP:20260421T104434
DTSTART:20141031T012100
DTEND:20141031T012400
SUMMARY:Netauktion objekt 2012-032 Auktionspåminnelse
DESCRIPTION:Länk till objektet du var intresserad av: https://staging.netauktion.se/auktion/produkt/30st-skivor-santana-mfl
END:VEVENT
END:VCALENDAR
