BEGIN:VCALENDAR
VERSION:2.0
PRODID:-//NetAuktion//NONSGML NetAuktion//SV
METHOD:PUBLISH
BEGIN:VEVENT
UID:20260421T104535-1560683436-netauktion.se
DTSTAMP:20260421T104535
DTSTART:20141031T012500
DTEND:20141031T012800
SUMMARY:Netauktion objekt 2012-035 Auktionspåminnelse
DESCRIPTION:Länk till objektet du var intresserad av: https://staging.netauktion.se/auktion/produkt/35st-cd-skivor-artistmix
END:VEVENT
END:VCALENDAR
