BEGIN:VCALENDAR
VERSION:2.0
PRODID:-//NetAuktion//NONSGML NetAuktion//SV
METHOD:PUBLISH
BEGIN:VEVENT
UID:20260421T104318-932554140-netauktion.se
DTSTAMP:20260421T104318
DTSTART:20141031T013000
DTEND:20141031T013300
SUMMARY:Netauktion objekt 2012-037 Auktionspåminnelse
DESCRIPTION:Länk till objektet du var intresserad av: https://staging.netauktion.se/auktion/produkt/40st-cd-skivor-abba-ryan-adams-mfl-a
END:VEVENT
END:VCALENDAR
