BEGIN:VCALENDAR
VERSION:2.0
PRODID:-//NetAuktion//NONSGML NetAuktion//SV
METHOD:PUBLISH
BEGIN:VEVENT
UID:20260421T104320-1451768363-netauktion.se
DTSTAMP:20260421T104320
DTSTART:20141031T013200
DTEND:20141031T013500
SUMMARY:Netauktion objekt 2012-039 Auktionspåminnelse
DESCRIPTION:Länk till objektet du var intresserad av: https://staging.netauktion.se/auktion/produkt/30st-cd-skivor-mariah-carey-mfl-c
END:VEVENT
END:VCALENDAR
